BEGIN:VCALENDAR
VERSION:2.0
PRODID:-//Beacon Heights Community League - ECPv6.15.20//NONSGML v1.0//EN
CALSCALE:GREGORIAN
METHOD:PUBLISH
X-WR-CALNAME:Beacon Heights Community League
X-ORIGINAL-URL:https://beaconheightscl.ca
X-WR-CALDESC:Events for Beacon Heights Community League
REFRESH-INTERVAL;VALUE=DURATION:PT1H
X-Robots-Tag:noindex
X-PUBLISHED-TTL:PT1H
BEGIN:VTIMEZONE
TZID:America/Denver
BEGIN:DAYLIGHT
TZOFFSETFROM:-0700
TZOFFSETTO:-0600
TZNAME:MDT
DTSTART:20240310T090000
END:DAYLIGHT
BEGIN:STANDARD
TZOFFSETFROM:-0600
TZOFFSETTO:-0700
TZNAME:MST
DTSTART:20241103T080000
END:STANDARD
BEGIN:DAYLIGHT
TZOFFSETFROM:-0700
TZOFFSETTO:-0600
TZNAME:MDT
DTSTART:20250309T090000
END:DAYLIGHT
BEGIN:STANDARD
TZOFFSETFROM:-0600
TZOFFSETTO:-0700
TZNAME:MST
DTSTART:20251102T080000
END:STANDARD
BEGIN:DAYLIGHT
TZOFFSETFROM:-0700
TZOFFSETTO:-0600
TZNAME:MDT
DTSTART:20260308T090000
END:DAYLIGHT
BEGIN:STANDARD
TZOFFSETFROM:-0600
TZOFFSETTO:-0700
TZNAME:MST
DTSTART:20261101T080000
END:STANDARD
END:VTIMEZONE
BEGIN:VEVENT
DTSTART;TZID=America/Denver:20250906T133000
DTEND;TZID=America/Denver:20250906T213000
DTSTAMP:20260420T010029
CREATED:20250601T043429Z
LAST-MODIFIED:20250829T021703Z
UID:893-1757165400-1757194200@beaconheightscl.ca
SUMMARY:Community Rocks! 2025
DESCRIPTION:Community Rocks is a free one-day\, family-friendly\, outdoor concert/festival with typical 600+ attendees. It’s a great opportunity for up and coming musicians and garage bands to get a taste of the spotlight. We provide full stage\, lighting\, backline and sound technicians; vouchers for food trucks; professional photography and aim to get provide modest honorariums to performers based on our ability to secure sponsorship and donations.\nSaturday\, September 6th\n\nJubilee Park (12037 43 ST NW) \n\nSchedule* \n\n\n\n1:30 PM\n Food Trucks & Gates Open for Concert Seating\n\n\n1:30 – 4:30 PM\n CommuniTEA Infusion Project – providing FREE iced tea and activities*\n\n\n1:30 – 8:00 PM\nCommunity League Membership and 50/50\n\n\n2:00 – 7:00 PM\n Games\n\n\n2:00 PM\n Stage Program Begins\n\n\nTime TBD\nGreetings from MLA Peggy Wright\n\n\n8:00 PM\nFood Trucks Close\n\n\n9:30 PM\nMusic/Event Ends\n\n\n\n\nOur Great Musical Lineup!\n\nC4th4ir\nHotel Breakfast \nKomrade of Brother’s Grimm\nMya Vongphothisal\nReasonable Creatures\nShandoa Vivian-Bigstone\nSOLAIR\nThe-Issue\nThe Strand\n\n\nHello Members and Friends of Beacon Heights Community League!\nWe can’t wait to see you all on Saturday\, September 6th! . Following are a few details\, tips and reminders for attendees: \nWhat to Bring–this is a short list of things you can bring with you into the concert that’ll improve your time here. \n\n\n\n\n\nBlanket/Tarp (Even on a warm day\, it gets cool when the sun goes down)\nLawn/Festival Chair\nSnacks / Water\nCamera\nFamily and Friends!\n\n\n\n\n\nCulture\nKindness. We’re made up of family\, friends and neighbors here. Please respect your fellow rockers. The Beacon Heights Community League board (all volunteers) have organized this event to bring people together and foster community connections. \nPlease leave your pets at home (service animals welcome)\, don’t bring items that will block others’ view. \nFundraisers\n50/50 Tickets are available for purchase online at https://www.rafflebox.ca/raffle/beaconheightscl or in person with cash\, debit or credit.   \nDonations encouraged with proceeds going to volunteer performers. \nParking\nIf you live within walking distance\, we encourage you to walk to the event or consider biking. We will have extra space for bike parking (at your own risk) in our batting cage. Please bring a lock to secure your bike. We will have volunteers in the area but we won’t be managing ownership of the bikes. \nIf you need to drive\, be prepared to park a few blocks away. Consider carpooling with your friends. The parking lot will NOT be available for parking. \nConsider parking a few blocks away or using the school parking lots at Beacon Heights School (4610 121 Ave) or St. Bernadette (11917 40 St). \nMemberships\n🎉 In celebration of Beacon Heights Community League’s 60th Anniversary\, we’re excited to announce that memberships will be FREE for all residents of Abbottsfield\, Beacon Heights and Bergman for the 2025–2026 year!\n💳 Proof of residency (such as ID) is required at time of purchase.\n👉 Regular membership pricing (for associate/non-residents or outside this special offer): \n\n\n\n\n\n\n\n\n\nFamily: $25\nIndividual: $15\nSenior: $5\n\n\n\n\n\n\n\n\n\nCome celebrate with us and enjoy a year of connection\, activities\, and community—on us! \nFood Vendors*\n\n\n\n\n\n\n\n\n\nDoppers – Burgers\, Fries\, Poutine and More https://m.facebook.com/DoppersTruck/ \nHoney’s BBQ – Smoked meat and homemade sides.  https://honeysbbq.ca/ \nBig Wayne’s Mini Treats – donuts and coffee https://www.facebook.com/BIGWaynes/\nCommuniTEA Infusion Project – providing FREE iced tea 1:30-4:30\nhttps://www.skillssociety.ca/projects/communitea-infusion \n\n\n\n\n\n\n\n\n\nSmoking (bylaw) designated location\nThis is a non-smoking event and smoking of any kind is not permitted on public parkland. However a designated (tobacco) smoking/vaping area will be provided per by-laws. See onsite signage to access the designated smoking area. \nEvent Volunteer Opportunities: \nClick here to view available shifts and sign-up to help.  \nVolunteers that work 4 hours or more will receive a Community Rocks T-Shirt\, a $15 Food Voucher for the food trucks\, snacks and beverages throughout the shift. Those that work multiple shifts and 8 or more hours will receive two food vouchers. Morning set-up volunteers will receive a pizza lunch supplied by Beverly Boston P\n\nEmail: communityrocks@beaconheightscl.ca  \nA big thank you to our Community Rocks supporters and sponsors!\n \nIn-Kind sponsors: \n\n\n\n\n\n\n\nMLA Peggy Wright\n\nLong & McQuade Musical Instruments Highlands\nALLSTAR Show Industries\nBeverly Business Association\nBeverly Boston Pizza\n\n\n\n\n\n\n\n\nFacebook event link:  https://facebook.com/events/s/save-the-date-beacon-heights-c/1225945892582507/ \n  \n*Subject to change without notice and available while supplies last.
URL:https://beaconheightscl.ca/event/community-rocks-2025/
LOCATION:Jubilee Park\, 12037 43 ST\, Edmonton\, Alberta\, T5W 2P7\, Canada
CATEGORIES:Community Rocks
END:VEVENT
END:VCALENDAR