BEGIN:VCALENDAR
VERSION:2.0
PRODID:-//Beacon Heights Community League - ECPv6.15.20//NONSGML v1.0//EN
CALSCALE:GREGORIAN
METHOD:PUBLISH
X-ORIGINAL-URL:https://beaconheightscl.ca
X-WR-CALDESC:Events for Beacon Heights Community League
REFRESH-INTERVAL;VALUE=DURATION:PT1H
X-Robots-Tag:noindex
X-PUBLISHED-TTL:PT1H
BEGIN:VTIMEZONE
TZID:America/Edmonton
BEGIN:DAYLIGHT
TZOFFSETFROM:-0700
TZOFFSETTO:-0600
TZNAME:MDT
DTSTART:20210314T090000
END:DAYLIGHT
BEGIN:STANDARD
TZOFFSETFROM:-0600
TZOFFSETTO:-0700
TZNAME:MST
DTSTART:20211107T080000
END:STANDARD
BEGIN:DAYLIGHT
TZOFFSETFROM:-0700
TZOFFSETTO:-0600
TZNAME:MDT
DTSTART:20220313T090000
END:DAYLIGHT
BEGIN:STANDARD
TZOFFSETFROM:-0600
TZOFFSETTO:-0700
TZNAME:MST
DTSTART:20221106T080000
END:STANDARD
BEGIN:DAYLIGHT
TZOFFSETFROM:-0700
TZOFFSETTO:-0600
TZNAME:MDT
DTSTART:20230312T090000
END:DAYLIGHT
BEGIN:STANDARD
TZOFFSETFROM:-0600
TZOFFSETTO:-0700
TZNAME:MST
DTSTART:20231105T080000
END:STANDARD
END:VTIMEZONE
BEGIN:VEVENT
DTSTART;TZID=America/Edmonton:20221029T100000
DTEND;TZID=America/Edmonton:20221029T160000
DTSTAMP:20260423T102255
CREATED:20221024T135804Z
LAST-MODIFIED:20221024T140113Z
UID:521-1667037600-1667059200@beaconheightscl.ca
SUMMARY:Free Skates Event
DESCRIPTION:Have you got kiddos that have outgrown their skates? Or\, maybe you need a pair to get your skate on this winter!?\n\nWe are offering FREE second-hand skates to those in need. (While supplies last).\n\nCome by Beacon Heights CL Rink on Saturday\, October 29th @ 10AM-4PM to try on and get some FREE skates.\n\nDonations of new\, warm socks will also be accepted toward #Socktober campaign being supported by Beacon Heights Seniors Club.
URL:https://beaconheightscl.ca/event/free-skates-event/
LOCATION:Alberta
CATEGORIES:programs,rink
ATTACH;FMTTYPE=image/jpeg:https://beaconheightscl.ca/wp-content/uploads/2022/10/312085383_9161550403862390_5875484722733573586_n.jpg
END:VEVENT
END:VCALENDAR