BEGIN:VCALENDAR
VERSION:2.0
PRODID:-//Beacon Heights Community League - ECPv6.15.20//NONSGML v1.0//EN
CALSCALE:GREGORIAN
METHOD:PUBLISH
X-WR-CALNAME:Beacon Heights Community League
X-ORIGINAL-URL:https://beaconheightscl.ca
X-WR-CALDESC:Events for Beacon Heights Community League
REFRESH-INTERVAL;VALUE=DURATION:PT1H
X-Robots-Tag:noindex
X-PUBLISHED-TTL:PT1H
BEGIN:VTIMEZONE
TZID:America/Yellowknife
BEGIN:DAYLIGHT
TZOFFSETFROM:-0700
TZOFFSETTO:-0600
TZNAME:MDT
DTSTART:20210314T090000
END:DAYLIGHT
BEGIN:STANDARD
TZOFFSETFROM:-0600
TZOFFSETTO:-0700
TZNAME:MST
DTSTART:20211107T080000
END:STANDARD
BEGIN:DAYLIGHT
TZOFFSETFROM:-0700
TZOFFSETTO:-0600
TZNAME:MDT
DTSTART:20220313T090000
END:DAYLIGHT
BEGIN:STANDARD
TZOFFSETFROM:-0600
TZOFFSETTO:-0700
TZNAME:MST
DTSTART:20221106T080000
END:STANDARD
BEGIN:DAYLIGHT
TZOFFSETFROM:-0700
TZOFFSETTO:-0600
TZNAME:MDT
DTSTART:20230312T090000
END:DAYLIGHT
BEGIN:STANDARD
TZOFFSETFROM:-0600
TZOFFSETTO:-0700
TZNAME:MST
DTSTART:20231105T080000
END:STANDARD
END:VTIMEZONE
BEGIN:VEVENT
DTSTART;TZID=America/Yellowknife:20220611T090000
DTEND;TZID=America/Yellowknife:20220611T170000
DTSTAMP:20260421T135549
CREATED:20220517T232102Z
LAST-MODIFIED:20220518T123852Z
UID:438-1654938000-1654966800@beaconheightscl.ca
SUMMARY:Garage Sale
DESCRIPTION:Beacon Heights Seniors are having a garage sale.  If you’d like to sell things\, you can rent a table for $20.00 or 2 for $30.00.  Contact Joanne Houtstra at 780-474-6280 to book a table or for more information. \nFYI – There will be a concession stand for snacks on the day!
URL:https://beaconheightscl.ca/event/garage-sale/
CATEGORIES:Seniors
ATTACH;FMTTYPE=image/webp:https://beaconheightscl.ca/wp-content/uploads/2022/05/garage-sale-concept-with-items_23-2148464942-1.webp
END:VEVENT
END:VCALENDAR