BEGIN:VCALENDAR
VERSION:2.0
PRODID:-//Beacon Heights Community League - ECPv6.15.20//NONSGML v1.0//EN
CALSCALE:GREGORIAN
METHOD:PUBLISH
X-ORIGINAL-URL:https://beaconheightscl.ca
X-WR-CALDESC:Events for Beacon Heights Community League
REFRESH-INTERVAL;VALUE=DURATION:PT1H
X-Robots-Tag:noindex
X-PUBLISHED-TTL:PT1H
BEGIN:VTIMEZONE
TZID:UTC
BEGIN:STANDARD
TZOFFSETFROM:+0000
TZOFFSETTO:+0000
TZNAME:UTC
DTSTART:20220101T000000
END:STANDARD
END:VTIMEZONE
BEGIN:VEVENT
DTSTART;VALUE=DATE:20230801
DTEND;VALUE=DATE:20230803
DTSTAMP:20260420T165545
CREATED:20230510T020619Z
LAST-MODIFIED:20230704T172106Z
UID:600-1690848000-1691020799@beaconheightscl.ca
SUMMARY:Fundraising Casino
DESCRIPTION:Grand Villa Casino Edmonton\n(Rogers Place)\n\nVolunteers Needed for all shifts August.\nParking and meals provided. Transportation also available for those in need.\n\nPosition and shift time information coming soon.\n\nPlease sign up here: Casino Signup
URL:https://beaconheightscl.ca/event/fundraising-casino/
CATEGORIES:news
ATTACH;FMTTYPE=image/jpeg:https://beaconheightscl.ca/wp-content/uploads/2022/01/162082036_6123480331002761_664675399213812237_n-1.jpg
END:VEVENT
END:VCALENDAR