BEGIN:VCALENDAR
VERSION:2.0
PRODID:-//Beacon Heights Community League - ECPv6.15.20//NONSGML v1.0//EN
CALSCALE:GREGORIAN
METHOD:PUBLISH
X-WR-CALNAME:Beacon Heights Community League
X-ORIGINAL-URL:https://beaconheightscl.ca
X-WR-CALDESC:Events for Beacon Heights Community League
REFRESH-INTERVAL;VALUE=DURATION:PT1H
X-Robots-Tag:noindex
X-PUBLISHED-TTL:PT1H
BEGIN:VTIMEZONE
TZID:America/Yellowknife
BEGIN:DAYLIGHT
TZOFFSETFROM:-0700
TZOFFSETTO:-0600
TZNAME:MDT
DTSTART:20210314T090000
END:DAYLIGHT
BEGIN:STANDARD
TZOFFSETFROM:-0600
TZOFFSETTO:-0700
TZNAME:MST
DTSTART:20211107T080000
END:STANDARD
BEGIN:DAYLIGHT
TZOFFSETFROM:-0700
TZOFFSETTO:-0600
TZNAME:MDT
DTSTART:20220313T090000
END:DAYLIGHT
BEGIN:STANDARD
TZOFFSETFROM:-0600
TZOFFSETTO:-0700
TZNAME:MST
DTSTART:20221106T080000
END:STANDARD
BEGIN:DAYLIGHT
TZOFFSETFROM:-0700
TZOFFSETTO:-0600
TZNAME:MDT
DTSTART:20230312T090000
END:DAYLIGHT
BEGIN:STANDARD
TZOFFSETFROM:-0600
TZOFFSETTO:-0700
TZNAME:MST
DTSTART:20231105T080000
END:STANDARD
END:VTIMEZONE
BEGIN:VEVENT
DTSTART;TZID=America/Yellowknife:20220525T190000
DTEND;TZID=America/Yellowknife:20220525T210000
DTSTAMP:20260422T010733
CREATED:20220518T124323Z
LAST-MODIFIED:20220518T125515Z
UID:448-1653505200-1653512400@beaconheightscl.ca
SUMMARY:Men's Shed
DESCRIPTION:Men’s Sheds are dedicated\, friendly\, and inclusive meeting spaces in the community/neighbourhood where men come together to work on meaningful projects and activities at their own pace and in the company of other men. \nCost: FREE
URL:https://beaconheightscl.ca/event/mens-shed-copy-3/
LOCATION:BH community league building\, 12037 43 Street NW.
CATEGORIES:mens shed,programs
ATTACH;FMTTYPE=image/jpeg:https://beaconheightscl.ca/wp-content/uploads/2022/01/59157561_3302042886479867_7601091670007873536_n.jpg
END:VEVENT
END:VCALENDAR